BEGIN:VCALENDAR
VERSION:2.0
PRODID:-//Pine Ridge Golf Club - ECPv6.15.20//NONSGML v1.0//EN
CALSCALE:GREGORIAN
METHOD:PUBLISH
X-ORIGINAL-URL:https://pineridgegolfclub.net
X-WR-CALDESC:Events for Pine Ridge Golf Club
REFRESH-INTERVAL;VALUE=DURATION:PT1H
X-Robots-Tag:noindex
X-PUBLISHED-TTL:PT1H
BEGIN:VTIMEZONE
TZID:America/Los_Angeles
BEGIN:DAYLIGHT
TZOFFSETFROM:-0800
TZOFFSETTO:-0700
TZNAME:PDT
DTSTART:20220313T100000
END:DAYLIGHT
BEGIN:STANDARD
TZOFFSETFROM:-0700
TZOFFSETTO:-0800
TZNAME:PST
DTSTART:20221106T090000
END:STANDARD
BEGIN:DAYLIGHT
TZOFFSETFROM:-0800
TZOFFSETTO:-0700
TZNAME:PDT
DTSTART:20230312T100000
END:DAYLIGHT
BEGIN:STANDARD
TZOFFSETFROM:-0700
TZOFFSETTO:-0800
TZNAME:PST
DTSTART:20231105T090000
END:STANDARD
BEGIN:DAYLIGHT
TZOFFSETFROM:-0800
TZOFFSETTO:-0700
TZNAME:PDT
DTSTART:20240310T100000
END:DAYLIGHT
BEGIN:STANDARD
TZOFFSETFROM:-0700
TZOFFSETTO:-0800
TZNAME:PST
DTSTART:20241103T090000
END:STANDARD
END:VTIMEZONE
BEGIN:VEVENT
DTSTART;TZID=America/Los_Angeles:20230728T080000
DTEND;TZID=America/Los_Angeles:20230730T170000
DTSTAMP:20260422T141705
CREATED:20221217T174133Z
LAST-MODIFIED:20230526T183017Z
UID:487-1690531200-1690736400@pineridgegolfclub.net
SUMMARY:Summer Classic Best Ball
DESCRIPTION:Summer Classic Best Ball \nPine Ridge Golf Club is proud to host the 4th annual Summer Golf Classic on July 28-30\, 2023. The course has never been in better shape and the weather in July is sure to be perfect! \nThis year’s tournament committee is planning a great event and expects to fill the field quickly. Find your partner and send in your entry promptly to guarantee your spot in the tournament. \nThe tournament entry fee is $450 per team\, which includes 3 rounds of golf\, good food\, a great tee prize\, and a great purse! \nCome and enjoy a fun filled week-end in the beautiful Willamette Valley. \nTournament Information – Calendar of Events \nFriday\, July 28: \n\n7:30-11:00 am –  No Host Breakfast\n7:00-Dusk – Practice Rounds\n7:00 – Dusk – Check in\n5:30 – Optional Horserace\n\nSaturday\, July 29: \n\n7:00 am – 9:00 am – No Host Breakfast\n9:00 am – Shotgun start – Hosted beverage station on the course\n2:00 pm- Hosted BBQ Lunch\n3:00 pm – Calcutta (Optional) – Buy your favorite team\, enjoy some snacks and the famous “Pine Ridge Cooler” on us!\n6:00 pm – Franks Ball Toss\n6:00 pm – Parimutuel sheets available.\n\nSunday\, July 30 \n\n7:00 am – 9:00 am – No Host Breakfast\n9:00 am – Shotgun start – Hosted beverage station on the course\nAfter golf –  Awards\, Calcutta payouts and Parimutuel payouts\n\nTournament Entry Fee Must accompany application to reserve your spot. \nEntry Includes: \n\nPractice Round on Friday\nTwo Tournament Rounds\nTee Prize\nHosted BBQ Lunch on Saturday\n\n Two Divisions ~ Open and Senior \n\nSeniors (Both players must be 60+ by 7/22/23)\nOne Open Field – Equal gross & net prizes\nOne Senior Field – Equal gross & net prizes\nPine Ridge GC Members take $25 off entry fee\nStarting times required for practice round—call (541)747-9811 to schedule\n\nHandicap Information and Requirements \n\nJuly 21st Handicap will be used\nGHIN number must be on entry to verify\nMaximum course handicap differential between players allowed will be 14.\nWinnings paid in pro shop credits\nOptional Payball Game Saturday & Sunday\nOptional Honey Pot on Friday\n\nThis Registration reserves your spot in the 2023 PRGC Summer Classic. Payment must be received by July 22nd\, 2023. \nRegistration link is below. \n 
URL:https://pineridgegolfclub.net/index.php/event/summer-classic-best-ball/
LOCATION:Pine Ridge Golf Club
END:VEVENT
END:VCALENDAR