BEGIN:VCALENDAR
VERSION:2.0
PRODID:-//Pine Ridge Golf Club - ECPv6.15.20//NONSGML v1.0//EN
CALSCALE:GREGORIAN
METHOD:PUBLISH
X-ORIGINAL-URL:https://pineridgegolfclub.net
X-WR-CALDESC:Events for Pine Ridge Golf Club
REFRESH-INTERVAL;VALUE=DURATION:PT1H
X-Robots-Tag:noindex
X-PUBLISHED-TTL:PT1H
BEGIN:VTIMEZONE
TZID:America/Los_Angeles
BEGIN:DAYLIGHT
TZOFFSETFROM:-0800
TZOFFSETTO:-0700
TZNAME:PDT
DTSTART:20220313T100000
END:DAYLIGHT
BEGIN:STANDARD
TZOFFSETFROM:-0700
TZOFFSETTO:-0800
TZNAME:PST
DTSTART:20221106T090000
END:STANDARD
BEGIN:DAYLIGHT
TZOFFSETFROM:-0800
TZOFFSETTO:-0700
TZNAME:PDT
DTSTART:20230312T100000
END:DAYLIGHT
BEGIN:STANDARD
TZOFFSETFROM:-0700
TZOFFSETTO:-0800
TZNAME:PST
DTSTART:20231105T090000
END:STANDARD
BEGIN:DAYLIGHT
TZOFFSETFROM:-0800
TZOFFSETTO:-0700
TZNAME:PDT
DTSTART:20240310T100000
END:DAYLIGHT
BEGIN:STANDARD
TZOFFSETFROM:-0700
TZOFFSETTO:-0800
TZNAME:PST
DTSTART:20241103T090000
END:STANDARD
END:VTIMEZONE
BEGIN:VEVENT
DTSTART;TZID=America/Los_Angeles:20230719T082000
DTEND;TZID=America/Los_Angeles:20230719T114000
DTSTAMP:20260424T094458
CREATED:20221201T175637Z
LAST-MODIFIED:20221201T224037Z
UID:430-1689754800-1689766800@pineridgegolfclub.net
SUMMARY:OWGA Sweepstakes Play
DESCRIPTION:OWGA Sweepstakes play today.\nCourse closed 8:20 – 11:40.
URL:https://pineridgegolfclub.net/index.php/event/owga-sweepstakes-play/
END:VEVENT
END:VCALENDAR